10.160000
0
0
-10.160000
651922.651548
4600798.578365
