10.160000
0
0
-10.160000
236582.757567
4323130.514666
