10.160000
0
0
-10.160000
411905.159890
4374618.143019
