10.160000
0
0
-10.160000
406104.634456
4097053.143617
