10.160000
0
0
-10.160000
411531.670830
4652195.199849
