10.160000
0
0
-10.160000
668358.332015
4101201.324355
