10.160000
0
0
-10.160000
578554.235812
4431939.206399
