10.160000
0
0
-10.160000
326423.855032
4487686.932791
