10.160000
0
0
-10.160000
407276.881167
4319147.156995
