10.160000
0
0
-10.160000
584947.171747
4098639.934048
