10.160000
0
0
-10.160000
245238.571103
4600725.961589
