10.160000
0
0
-10.160000
670681.737104
4323562.342405
