10.160000
0
0
-10.160000
328595.812128
4542917.975240
