10.160000
0
0
-10.160000
670556.868249
4158589.078012
