10.160000
0
0
-10.160000
320955.896694
4431489.662650
