10.160000
0
0
-10.160000
668654.766920
4214378.718979
